BEGIN:VCALENDAR
VERSION:2.0
PRODID:-//Ancestral Trails - ECPv6.15.20//NONSGML v1.0//EN
CALSCALE:GREGORIAN
METHOD:PUBLISH
X-WR-CALNAME:Ancestral Trails
X-ORIGINAL-URL:https://aths.site
X-WR-CALDESC:Events for Ancestral Trails
REFRESH-INTERVAL;VALUE=DURATION:PT1H
X-Robots-Tag:noindex
X-PUBLISHED-TTL:PT1H
BEGIN:VTIMEZONE
TZID:America/Kentucky/Louisville
BEGIN:DAYLIGHT
TZOFFSETFROM:-0500
TZOFFSETTO:-0400
TZNAME:EDT
DTSTART:20240310T070000
END:DAYLIGHT
BEGIN:STANDARD
TZOFFSETFROM:-0400
TZOFFSETTO:-0500
TZNAME:EST
DTSTART:20241103T060000
END:STANDARD
BEGIN:DAYLIGHT
TZOFFSETFROM:-0500
TZOFFSETTO:-0400
TZNAME:EDT
DTSTART:20250309T070000
END:DAYLIGHT
BEGIN:STANDARD
TZOFFSETFROM:-0400
TZOFFSETTO:-0500
TZNAME:EST
DTSTART:20251102T060000
END:STANDARD
BEGIN:DAYLIGHT
TZOFFSETFROM:-0500
TZOFFSETTO:-0400
TZNAME:EDT
DTSTART:20260308T070000
END:DAYLIGHT
BEGIN:STANDARD
TZOFFSETFROM:-0400
TZOFFSETTO:-0500
TZNAME:EST
DTSTART:20261101T060000
END:STANDARD
BEGIN:DAYLIGHT
TZOFFSETFROM:-0500
TZOFFSETTO:-0400
TZNAME:EDT
DTSTART:20270314T070000
END:DAYLIGHT
BEGIN:STANDARD
TZOFFSETFROM:-0400
TZOFFSETTO:-0500
TZNAME:EST
DTSTART:20271107T060000
END:STANDARD
END:VTIMEZONE
BEGIN:VEVENT
DTSTART;TZID=America/Kentucky/Louisville:20260202T100000
DTEND;TZID=America/Kentucky/Louisville:20260207T140000
DTSTAMP:20260423T064558
CREATED:20260202T221006Z
LAST-MODIFIED:20260202T222658Z
UID:20151-1770026400-1770472800@aths.site
SUMMARY:ATHS Library is closed this week due to snow
DESCRIPTION:ATHS Library is closed this week due to snow
URL:https://aths.site/event/aths-library-is-closed-this-week-due-to-snow/
LOCATION:Kentucky
END:VEVENT
BEGIN:VEVENT
DTSTART;TZID=America/Kentucky/Louisville:20260102T190000
DTEND;TZID=America/Kentucky/Louisville:20260102T190000
DTSTAMP:20260423T064558
CREATED:20251119T053720Z
LAST-MODIFIED:20251119T053720Z
UID:19983-1767380400-1767380400@aths.site
SUMMARY:ATHS Meeting:  No Meeting this month
DESCRIPTION:The college is closed
URL:https://aths.site/event/aths-meeting-no-meeting-this-month/
LOCATION:Kentucky
END:VEVENT
BEGIN:VEVENT
DTSTART;TZID=America/Kentucky/Louisville:20251205T190000
DTEND;TZID=America/Kentucky/Louisville:20251205T203000
DTSTAMP:20260423T064558
CREATED:20251219T193523Z
LAST-MODIFIED:20251219T193634Z
UID:20078-1764961200-1764966600@aths.site
SUMMARY:ATHS Meeting:  The Merlin Deposition.
DESCRIPTION:Presentation:  Speaker Robert Prather will discuss historical fiction\, entitled The Merlin Deposition.\nAuthors Robert Prather and Cyrus Alderwood weave an incredible tale of Merlin\, King\nArthur\, and ancient magic on the British Isles.
URL:https://aths.site/event/aths-meeting-the-merlin-deposition/
LOCATION:Elizabethtown Community & Technical College\, 620 College Street Road\, Elizabethtown\, Kentucky\, 42701
END:VEVENT
BEGIN:VEVENT
DTSTART;TZID=America/Kentucky/Louisville:20251205T190000
DTEND;TZID=America/Kentucky/Louisville:20251205T203000
DTSTAMP:20260423T064558
CREATED:20250628T213043Z
LAST-MODIFIED:20250727T212815Z
UID:19889-1764961200-1764966600@aths.site
SUMMARY:ATHS Meeting:  Topic:  Kentucky Rising: 1815-1820
DESCRIPTION:Speaker Eddie Price\nTopic: Kentucky Rising: 1815-1820\nThis program looks at Kentucky in the first five years after the War of 1812.\nWith Henry Clay as Speaker of the House and an increasing presence on the\nnational stage\, Kentucky develops into one of the more influential states in\nthe union. Clay presses for an American System \, protective tariff and\nnetwork of federally funded highways and canals. He also brings the first\nHereford cattle to his estate at Ashland\, KY. Steamboat travel increases on\nthe Ohio and Mississippi Rivers. Hemp will mean new opportunities for some\nKentuckians as the cotton trade and world markets expand. \nThe meeting will be held in room 303AB in the Occupational Technical Building (OTB) \n 
URL:https://aths.site/event/aths-meeting-topic-kentucky-rising-1815-1820/
LOCATION:Elizabethtown Community & Technical College\, 620 College Street Road\, Elizabethtown\, Kentucky\, 42701
END:VEVENT
BEGIN:VEVENT
DTSTART;TZID=America/Kentucky/Louisville:20251107T190000
DTEND;TZID=America/Kentucky/Louisville:20251107T203000
DTSTAMP:20260423T064558
CREATED:20250206T003100Z
LAST-MODIFIED:20250206T003100Z
UID:2597-1762542000-1762547400@aths.site
SUMMARY:ATHS Meeting:  Tribute to Valor and Courage Revisited
DESCRIPTION:Speaker: Eric Lee\nTopic: Tribute to Valor and Courage Revisited. Eric was chosen to speak this month in honor of the   many individuals who served our country.\nEveryone is invited to attend. Light refreshments served.\n\nEric  served eight years in the military. He is a veteran of the Persian Gulf War. Serving in the 101st Airborne Division and the Third Armored Division.\n He is a author\, husband\, father\, and son of a World War II and Korean War era veteran. Eric  has chronicled many prolific stories of America’s “Greatest Generation” in his revised  work entitled Tribute to Valor and Courage Revisited and shared their accomplishments through presentations in bookstores\, churches\, schools\, retirement homes\, libraries and other venues. Eric will be sharing the many stories of veterans.
URL:https://aths.site/event/aths-meeting-tribute-to-valor-and-courage-revisited/
LOCATION:Elizabethtown Community & Technical College\, 620 College Street Road\, Elizabethtown\, Kentucky\, 42701
END:VEVENT
END:VCALENDAR